BEGIN:VCALENDAR
VERSION:2.0
PRODID:-//Foyer Rural de Ventabren - ECPv6.2.9//NONSGML v1.0//EN
CALSCALE:GREGORIAN
METHOD:PUBLISH
X-ORIGINAL-URL:https://fr-ventabren.foyersruraux.org
X-WR-CALDESC:évènements pour Foyer Rural de Ventabren
REFRESH-INTERVAL;VALUE=DURATION:PT1H
X-Robots-Tag:noindex
X-PUBLISHED-TTL:PT1H
BEGIN:VTIMEZONE
TZID:Europe/Paris
BEGIN:DAYLIGHT
TZOFFSETFROM:+0100
TZOFFSETTO:+0200
TZNAME:CEST
DTSTART:20250330T010000
END:DAYLIGHT
BEGIN:STANDARD
TZOFFSETFROM:+0200
TZOFFSETTO:+0100
TZNAME:CET
DTSTART:20251026T010000
END:STANDARD
END:VTIMEZONE
BEGIN:VEVENT
DTSTART;TZID=Europe/Paris:20250407T100000
DTEND;TZID=Europe/Paris:20250408T160000
DTSTAMP:20260421T120245
CREATED:20250309T150254Z
LAST-MODIFIED:20250309T150254Z
UID:10000006-1744020000-1744128000@fr-ventabren.foyersruraux.org
SUMMARY:Stage Dessin Avril 2025
DESCRIPTION:Stage enfants/ados DESSIN MANGA ou ARTS PLASTIQUES pour les vacances d’avril 2025 !\nUn ou plusieurs créneaux au choix…\nModalités d’inscription et de paiement : Inscription et paiement\nDemande d’inscription ou renseignements : https://docs.google.com/forms/d/e/1FAIpQLScWZcC543ouB3IKqDnh66De9WriiisLGlEVAkbjt7ewE6vOYA/viewform
URL:https://fr-ventabren.foyersruraux.org/evenement/stage-dessin-avril-2025/
LOCATION:Espace Matheron\, 4 boulevard de Provence\, Ventabren\, 13122\, France
CATEGORIES:Stage
ATTACH;FMTTYPE=image/jpeg:https://fr-ventabren.foyersruraux.org/wp-content/uploads/sites/8/2025/03/DESSIN-STAGE-2025.04.jpg
END:VEVENT
END:VCALENDAR