BEGIN:VCALENDAR
VERSION:2.0
PRODID:-//Foyer Rural de Ventabren - ECPv6.2.9//NONSGML v1.0//EN
CALSCALE:GREGORIAN
METHOD:PUBLISH
X-ORIGINAL-URL:https://fr-ventabren.foyersruraux.org
X-WR-CALDESC:évènements pour Foyer Rural de Ventabren
REFRESH-INTERVAL;VALUE=DURATION:PT1H
X-Robots-Tag:noindex
X-PUBLISHED-TTL:PT1H
BEGIN:VTIMEZONE
TZID:Europe/Paris
BEGIN:DAYLIGHT
TZOFFSETFROM:+0100
TZOFFSETTO:+0200
TZNAME:CEST
DTSTART:20250330T010000
END:DAYLIGHT
BEGIN:STANDARD
TZOFFSETFROM:+0200
TZOFFSETTO:+0100
TZNAME:CET
DTSTART:20251026T010000
END:STANDARD
END:VTIMEZONE
BEGIN:VEVENT
DTSTART;TZID=Europe/Paris:20250424T090000
DTEND;TZID=Europe/Paris:20250424T120000
DTSTAMP:20260421T133952
CREATED:20250413T153728Z
LAST-MODIFIED:20250413T153744Z
UID:10000007-1745485200-1745496000@fr-ventabren.foyersruraux.org
SUMMARY:La Fresque du Climat - 24 avril 2025
DESCRIPTION:Vous avez tous entendu parler de la Fresque du Climat et des enjeux climatiques ?\n\n« La Fresque du Climat » est un atelier ludique\, participatif et créatif sur le changement climatique. Il est basé sur l’intelligence collective et donc extrêmement pédagogique : il nous permet d’en apprendre beaucoup en très peu de temps sur le climat et les liens de causes à effets entre les différentes composantes du changement climatique.\n\nSoyez acteurs et participer à l’atelier organisé à Ventabren le 24 avril de 9h à 12h à la Maison des Projets\, quartier de l’Héritière\, 3 placette du Chêne Vert.\nC’est gratuit !\n\n Places limitées ! (7 personnes max – adultes & grands ados)\n\n Infos & Inscription : 06 11 76 99 66
URL:https://fr-ventabren.foyersruraux.org/evenement/fresque-climat-2025-04/
LOCATION:Maison des Projets\, 3 placette du Chêne Vert\, Ventabren\, 13122\, France
CATEGORIES:Atelier
ATTACH;FMTTYPE=image/jpeg:https://fr-ventabren.foyersruraux.org/wp-content/uploads/sites/8/2025/04/FRESQUE-CLIMAT-2025.04.jpg
END:VEVENT
END:VCALENDAR