BEGIN:VCALENDAR
VERSION:2.0
PRODID:-//Foyer Rural de Ventabren - ECPv6.2.9//NONSGML v1.0//EN
CALSCALE:GREGORIAN
METHOD:PUBLISH
X-WR-CALNAME:Foyer Rural de Ventabren
X-ORIGINAL-URL:https://fr-ventabren.foyersruraux.org
X-WR-CALDESC:évènements pour Foyer Rural de Ventabren
REFRESH-INTERVAL;VALUE=DURATION:PT1H
X-Robots-Tag:noindex
X-PUBLISHED-TTL:PT1H
BEGIN:VTIMEZONE
TZID:Europe/Paris
BEGIN:DAYLIGHT
TZOFFSETFROM:+0100
TZOFFSETTO:+0200
TZNAME:CEST
DTSTART:20250330T010000
END:DAYLIGHT
BEGIN:STANDARD
TZOFFSETFROM:+0200
TZOFFSETTO:+0100
TZNAME:CET
DTSTART:20251026T010000
END:STANDARD
END:VTIMEZONE
BEGIN:VEVENT
DTSTART;TZID=Europe/Paris:20250426T100000
DTEND;TZID=Europe/Paris:20250426T180000
DTSTAMP:20260421T133742
CREATED:20250413T160505Z
LAST-MODIFIED:20250413T160505Z
UID:10000008-1745661600-1745690400@fr-ventabren.foyersruraux.org
SUMMARY:Exposition Peinture - 26 avril 2025
DESCRIPTION:Exposition de PEINTURE à Ventabren le samedi 26 avril de 10h à 18h à la Salle Jean Bourde.\nEntrée libre !\nCouleurs\, styles\, thèmes\, techniques… la diversité est au rendez vous pour satisfaire tous les goûts.\nVenez nombreux découvrir les œuvres de nos artistes !
URL:https://fr-ventabren.foyersruraux.org/evenement/exposition-peinture-2025-04/
LOCATION:Salle Jean Bourde\, Rue du Puits de la Muse\, Ventabren\, 13122\, France
CATEGORIES:Exposition
ATTACH;FMTTYPE=image/jpeg:https://fr-ventabren.foyersruraux.org/wp-content/uploads/sites/8/2025/04/Exposition-peinture-2025.04.jpg
END:VEVENT
END:VCALENDAR